Workbook
Name AcsSum: #REF!
Name Actualcapex: GWPF!$L$109:$M$147
Name Aldersey: #REF!
Name CFData: #REF!
Name CFFirstLast: CFs!#REF!
Name Data: #REF!
Name Dataheads: Database!$A$5:$BC$5
Name INPUT_BOX: #REF!
Name INPUT_BOX: #REF!
Name MATAR: #REF!
Name MATAR: #REF!
Name METAR: #REF!
Name METAR: #REF!
Name sa: #REF!
Name sa: #REF!
Name t25Q2: #REF!
Name t25Q2: #REF!
Name table_25_Q2: #REF!
Name table_25_Q2: #REF!
Name Wacc: GWPF!$AB$4:$AC$31

Sheet Database
A1: Hywind Scotland Pilot Park | C1: =GWPF!L9 -> 224.24982 | AW1: =GWPF!L6 -> 169.46325 | AX1: =GWPF!L7 -> 54.786573 | AY1: =GWPF!L9 -> 224.24982 | AZ1: =GWPF!U10 -> 0.46 | BA1: predicted CF
AE2: 22 | AN2: Market price | AW2: Capex | AX2: Opex | AY2: LCOE
AN3: 35 | AW3: {=IF(INDEX(_xlnm.Database,MATCH($A$1,Database!$A$5:$A$6,FALSE)-1,MATCH("Strike price 2012",Database!$A$5:$BC$5,FALSE))="RO",20,15)} -> 20 | AX3: Years | BC3: =IF(SUM(AW1:AX1)<>AY1,"!!!","")
Y4: 1.29 | AM4: 0.48 | AO4: Estimated LCOE
A5: Name | B5: Type | C5: Year of completion | D5: Sea | E5: Latitude | F5: Area (km2) | G5: Distance offshore (km) | H5: Depth (m) | I5: Turbine | J5: Capacity (MW) | K5: No turbines | L5: Power/m2 | M5: Turbine size (MW) | N5: Diameter (m) | O5: Last accounts | P5: Latest CF | Q5: Reported cost (£m) | R5: OFTO allowance | S5: Reported capex/ MW | T5: Actual Capex with OFTO | U5: Actual capex OFTO free | V5: Inflation multiplier | W5: Capex at 2018 prices | X5: Actual capex/MW OFTO-free | Y5: In dollars | Z5: Ave opex to date £m | AA5: Op cost per MW capacity | AB5: Op cost per MWh | AC5: Revenue £m | AD5: £ revenue/MWh generated | AE5: W/M2 generated | AF5: Latest MWh output/yr | AG5: Early yrs LF | AH5: Max CF | AI5: Recent CF | AJ5: RLF | AK5: Strike price 2012 | AL5: Strike price current | AM5: MWh @ | AN5: Cost of CfD £m | AO5: Turbine size | AP5: Water depth | AQ5: Distance offshore | AR5: Windfarm size | AS5: Constant | AT5: Ioannou LCOE | AU5: AlderseyW LCOE | AV5: BNEF LCOE | AW5: Capex per MWh | AX5: Opex per MWh | AY5: GWPF LCOE 11/12/20 | AZ5: CW AW | BA5: CW BNEF | BB5: CW GWPF | BC5: Notes
A6: Hywind Scotland Pilot Park | B6: Floating | C6: 2017 | D6: North | E6: 57.483333 | F6: 15 | G6: 25 | H6: 120 | J6: 30 | K6: =J6/M6 -> 5 | L6: =AF6/F6 -> 9004.2667 | M6: 6 | N6: 154 | O6: =_xlfn.MAXIFS(Financials!B:B,Financials!A:A,"="&A6) -> 2020 | P6: =_xlfn.MAXIFS(CFs!C:C,CFs!A:A,"="&A6) -> 2021 | Q6: 200 | S6: =Q6/J6 -> 6.6666667 | T6: 264.7 | U6: 264.7 | V6: =(0.0004*(C6-1999)^2)-(0.0317*(C6-1999))+1.4502 -> 1.0092 | W6: =U6*V6 -> 267.13524 | X6: =W6/J6 -> 8.904508 | Y6: =X6*$Y$4 -> 11.486815 | Z6: =AVERAGEIFS(Financials!J:J,Financials!A:A,"="&A6) -> 6.4 | AA6: =1000*Z6/J6 -> 213.33333 | AB6: =Z6*1000000/AF6 -> 47.384943 | AC6: =AVERAGEIFS(Financials!D:D,Financials!A:A,"="&A6) -> 30.066667 | AD6: =1000000*AC6/AF6 -> 222.61052 | AE6: =IF(F6="",0,J6*AJ6/F6) -> 1.0656601 | AF6: =OFFSET(CFs!$A$1,MATCH(A6,CFs!A:A,1)-1,5,1,1) -> 135064 | AG6: =AVERAGEIFS(CFs!E:E,CFs!A:A,"="&A6,CFs!B:B,"<=3") -> 0.53283004 | AH6: =_xlfn.MAXIFS(CFs!E:E,CFs!A:A,"="&A6) -> 0.57054795 | AI6: =AVERAGEIFS(CFs!E:E,CFs!A:A,"="&A6,CFs!B:B,">"&#REF!-#REF!-2) -> #DIV/0! | AJ6: =AVERAGEIFS(CFs!E:E,CFs!A:A,"="&A6) -> 0.53283004 | AK6: RO | AV6: 165 | AW6: 169.46325 | AX6: 54.786573 | AY6: 224.24982 | AZ6: =$J6*AU6 -> 0 | BA6: =$J6*AV6 -> 4950 | BB6: =$J6*AY6 -> 6727.4946

Sheet GWPF
A1: =Database!A1 -> Hywind Scotland Pilot Park
D2: Assumptions | O2: Hughes opex model
H3: Input | J3: Levelised cost | O3: Opex | P3: Input | Q3: Parameter | T3: Capacity factor | V3: Parameter | X3: Capex (OFTO free) | AB3: WACC
F4: Capacity (MW) | H4: {=INDEX(_xlnm.Database,MATCH($A$1,Database!$A$5:$A$6,FALSE)-1,MATCH(F4,Database!$A$5:$BC$5,FALSE))} -> 30 | I4: MW | O4: Commission | P4: {=INDEX(_xlnm.Database,MATCH($A$1,Database!$A$5:$A$6,FALSE)-1,MATCH("Year of completion",Database!$A$5:$BC$5,FALSE))} -> 2017 | T4: Year of completion | U4: {=INDEX(_xlnm.Database,MATCH($A$1,Database!$A$5:$A$6,FALSE)-1,MATCH(T4,Database!$A$5:$BC$5,FALSE))-2000} -> 17 | V4: 0.0040018493 | X4: Actual capex/MW OFTO-free | Y4: {=INDEX(_xlnm.Database,MATCH($A$1,Database!$A$5:$A$6,FALSE)-1,MATCH(X4,Database!$A$5:$BC$5,FALSE))} -> 8.904508 | AB4: 2000 | AC4: 0.07
J5: Components | K5: £m | L5: £/MWh | O5: Growth rate | P5: 0.0574154 | T5: Latitude | U5: {=INDEX(_xlnm.Database,MATCH($A$1,Database!$A$5:$A$6,FALSE)-1,MATCH(T5,Database!$A$5:$BC$5,FALSE))-52.5} -> 4.9833333 | V5: 0.0052836566 | X5: Reported capex/ MW | Y5: {=INDEX(_xlnm.Database,MATCH($A$1,Database!$A$5:$A$6,FALSE)-1,MATCH(X5,Database!$A$5:$BC$5,FALSE))} -> 6.6666667 | AB5: 2001 | AC5: 0.07
F6: MW sent out | H6: =+H4*(1-H5/100) -> 30 | I6: MW s.o. | J6: Capital charges | K6: =SUM(L34:L35) -> 465.92879 | L6: =1000000*SUM(K26:K35)/E66 -> 169.46325 | O6: Depth (m) | P6: {=INDEX(_xlnm.Database,MATCH($A$1,Database!$A$5:$A$6,FALSE)-1,MATCH(O6,Database!$A$5:$BC$5,FALSE))} -> 120 | Q6: =IF(P6>50,0.51,VLOOKUP(10*ROUNDDOWN(P6/10,0),O12:P18,2, FALSE)) -> 0.51 | T6: Distance offshore (km) | U6: {=INDEX(_xlnm.Database,MATCH($A$1,Database!$A$5:$A$6,FALSE)-1,MATCH(T6,Database!$A$5:$BC$5,FALSE))} -> 25 | V6: 0.0029366774 | X6: Use | Y6: =IF(Y4=0,Y5,Y4) -> 8.904508 | AB6: 2002 | AC6: 0.07
F7: Actual capex/MW OFTO-free | H7: {=INDEX(_xlnm.Database,MATCH($A$1,Database!$A$5:$A$6,FALSE)-1,MATCH(F7,Database!$A$5:$BC$5,FALSE))} -> 8.904508 | I7: £m/MW | J7: O&M | K7: =K66 -> 93.459385 | L7: =1000000*K66/E66 -> 54.786573 | O7: OFTO | Q7: 0.276 | T7: Turbine size (MW) | U7: {=INDEX(_xlnm.Database,MATCH($A$1,Database!$A$5:$A$6,FALSE)-1,MATCH(T7,Database!$A$5:$BC$5,FALSE))} -> 6 | V7: -0.00030695336 | AB7: 2003 | AC7: 0.07
F8: Generation Capital Cost | H8: =H4*H7 -> 267.13524 | I8: £m | O8: Constant | Q8: 3.3822 | T8: Diameter (m) | U8: {=INDEX(_xlnm.Database,MATCH($A$1,Database!$A$5:$A$6,FALSE)-1,MATCH(T8,Database!$A$5:$BC$5,FALSE))} -> 154 | V8: 0.00049133045 | AB8: 2004 | AC8: 0.07
J9: LCOE Total | L9: =SUM(L6:L8) -> 224.24982 | Q9: =SUM(Q6:Q8) -> 4.1682 | T9: Constant | V9: 0.2306793 | AB9: 2005 | AC9: 0.07
T10: Implied CF | U10: 0.46 | AB10: 2006 | AC10: 0.07
O11: Depth parameter | AB11: 2007 | AC11: 0.07
O12: 0 | P12: 0.3499 | AB12: 2008 | AC12: 0.07
F13: Overall borrowing rate | H13: =VLOOKUP(P4,Wacc,2,FALSE) -> 0.0504 | I13: p.u. p.a. | O13: 10 | P13: 0.3499 | AB13: 2009 | AC13: 0.07
D14: Lifetime O&M rate £/MW/yr | O14: 20 | P14: 0.3284 | AB14: 2010 | AC14: 0.07
D15: =1000000*AVERAGE(G36:G64)/H4 -> 170101.1 | H15: =D15*H4/1000000 -> 5.1030331 | I15: £m/yr | O15: 30 | P15: 0.5109115 | AB15: 2011 | AC15: =AC14-(($AC$4-0.042)/10) -> 0.0672
D16: Life | H16: =Database!AW3 -> 20 | I16: years | O16: 40 | P16: 0.5109115 | AB16: 2012 | AC16: =AC15-(($AC$4-0.042)/10) -> 0.0644
F17: Ageing Discount Factor | H17: 0.021 | I17: p.u./p.a. | O17: 50 | P17: 0.5109115 | AB17: 2013 | AC17: =AC16-(($AC$4-0.042)/10) -> 0.0616
AB18: 2014 | AC18: =AC17-(($AC$4-0.042)/10) -> 0.0588
AB19: 2015 | AC19: =AC18-(($AC$4-0.042)/10) -> 0.056
AB20: 2016 | AC20: =AC19-(($AC$4-0.042)/10) -> 0.0532
AB21: 2017 | AC21: =AC20-(($AC$4-0.042)/10) -> 0.0504
AB22: 2018 | AC22: =AC21-(($AC$4-0.042)/10) -> 0.0476
A23: Capital and Operational Charges | AB23: 2019 | AC23: =AC22-(($AC$4-0.042)/10) -> 0.0448
A24: Year | B24: Borrowing Discount Factor | C24: Production Ageing Factor | D24: Output (MWh) | E24: Discounted Output (MWh) | F24: Capex[£m] | G24: O&M [£m] | J24: Total Cost | K24: Total Discounted Cost (£m) | L24: Accumulating Debt during Construction | M24: Interest During Construction IDC (£m) | N24: Discounted debt charges (£m) | AB24: 2020 | AC24: =AC23-(($AC$4-0.042)/10) -> 0.042
AB25: 2021 | AC25: =AC24 -> 0.042
A26: -10 | B26: =IF(A26<$H$16,1/(1+$H$13)^A26,"") -> 1.6351106 | F26: =+B75*$H$8/100 -> 0 | J26: =SUM(F26:H26) -> 0 | K26: =IF(ABS(A26)<=$H$16-1,+J26*B26,"") -> 0 | L26: =K26 -> 0 | M26: =L35-H8 -> 21.948926 | AB26: 2022 | AC26: =AC25 -> 0.042
A27: -9 | B27: =IF(A27<$H$16,1/(1+$H$13)^A27,"") -> 1.5566552 | F27: =+C75*$H$8/100 -> 0 | J27: =SUM(F27:H27) -> 0 | K27: =IF(ABS(A27)<=$H$16-1,+J27*B27,"") -> 0 | L27: =L26+K27 -> 0 | M27: Debt incurred during Construction (£m) | AB27: 2023 | AC27: =AC26 -> 0.042
A28: -8 | B28: =IF(A28<$H$16,1/(1+$H$13)^A28,"") -> 1.4819642 | F28: =+D75*$H$8/100 -> 0 | J28: =SUM(F28:H28) -> 0 | K28: =IF(ABS(A28)<=$H$16-1,+J28*B28,"") -> 0 | L28: =L27+K28 -> 0 | AB28: 2024 | AC28: =AC27 -> 0.042
A29: -7 | B29: =IF(A29<$H$16,1/(1+$H$13)^A29,"") -> 1.410857 | F29: =+E75*$H$8/100 -> 0 | J29: =SUM(F29:H29) -> 0 | K29: =IF(ABS(A29)<=$H$16-1,+J29*B29,"") -> 0 | L29: =L28+K29 -> 0 | AB29: 2025 | AC29: =AC28 -> 0.042
A30: -6 | B30: =IF(A30<$H$16,1/(1+$H$13)^A30,"") -> 1.3431616 | F30: =+F75*$H$8/100 -> 0 | J30: =SUM(F30:H30) -> 0 | K30: =IF(ABS(A30)<=$H$16-1,+J30*B30,"") -> 0 | L30: =L29+K30 -> 0 | M30: =L35*H11 -> 0 | AB30: 2026 | AC30: =AC29 -> 0.042
A31: -5 | B31: =IF(A31<$H$16,1/(1+$H$13)^A31,"") -> 1.2787144 | F31: =+G75*$H$8/100 -> 0 | J31: =SUM(F31:H31) -> 0 | K31: =IF(ABS(A31)<=$H$16-1,+J31*B31,"") -> 0 | L31: =L30+K31 -> 0 | M31: Repayment of Debt Principal £m
A32: -4 | B32: =IF(A32<$H$16,1/(1+$H$13)^A32,"") -> 1.2173595 | F32: =+H75*$H$8/100 -> 0 | J32: =SUM(F32:H32) -> 0 | K32: =IF(ABS(A32)<=$H$16-1,+J32*B32,"") -> 0 | L32: =L31+K32 -> 0
A33: -3 | B33: =IF(A33<$H$16,1/(1+$H$13)^A33,"") -> 1.1589485 | F33: =+I75*$H$8/100 -> 0 | J33: =SUM(F33:H33) -> 0 | K33: =IF(ABS(A33)<=$H$16-1,+J33*B33,"") -> 0 | L33: =L32+K33 -> 0 | O33: Model
A34: -2 | B34: =IF(A34<$H$16,1/(1+$H$13)^A34,"") -> 1.1033402 | F34: =+J75*$H$8/100 -> 160.28114 | J34: =SUM(F34:H34) -> 160.28114 | K34: =IF(ABS(A34)<=$H$16-1,+J34*B34,"") -> 176.84462 | L34: =L33+K34 -> 176.84462 | O34: 2 | AC34: O&M models
A35: -1 | B35: =IF(A35<$H$16,1/(1+$H$13)^A35,"") -> 1.0504 | F35: =+K75*$H$8/100 -> 106.8541 | J35: =SUM(F35:H35) -> 106.8541 | K35: =IF(ABS(A35)<=$H$16-1,+J35*B35,"") -> 112.23954 | L35: =L34+K35 -> 289.08417 | O35: Modelled | P35: Acual O&M | Q35: Add future years | R35: Per MWh | S35: Per MW | T35: Modelled CF (wear) | U35: CF Data | V35: Add wear to future years | W35: Choose | X35: Wearing output | AC35: Model 1 | AD35: Model 2 | AE35: Per MW
A36: 1 | B36: =1/(1+$H$13)^(A36-1) -> 1 | D36: =IF(A36<=($H$16),X36,"") -> 135079.2 | E36: =D36*B36 -> 135079.2 | G36: =IF(A36<=($H$16),IF(ISERROR($B$12),AC36,Q36),0) -> 5.9538 | K36: =B36*G36 -> 5.9538 | L36: Discounted Cash Flow of Production and Revenue Costs | M36: =IF(A36=$H$16,$M$30,"") | N36: =IF(A36=$H$16,M36/(1+$H$13)^A36,"") | O36: =IF($O$34=1,AC36,AD36) -> 5.9538 | P36: =SUMIFS(Financials!L:L,Financials!A:A,"="&$A$1,Financials!C:C,"="&+A36) -> 5.9538 | Q36: =IF(P36=0,O36,P36) -> 5.9538 | R36: =1000000*Q36/D36 -> 44.076364 | S36: =1000000*Q36/$H$4 -> 198460 | T36: =IF(U10>0.6,0.6,U10) -> 0.46 | U36: =SUMIFS(CFs!E:E,CFs!A:A,"="&$A$1,CFs!B:B,"="&+A36) -> 0.514 | V36: =IF(U36=0,(1-$H$17)*AVERAGE(V33:V35),U36) -> 0.514 | W36: =IF($U$36>0,V36,T36) -> 0.514 | X36: =W36*$H$6*8760 -> 135079.2 | AC36: =$H$4*1000*EXP((($P$4+A36-2000)*$P$5)+$Q$9)/1000000 -> 5.4472958 | AD36: =IF(P36=0,$H$4*1000*EXP((($P$4+A36-2000)*$P$5)+$Q$9)/1000000,P36) -> 5.9538 | AE36: =S36 -> 198460
A37: =A36+1 -> 2 | B37: =1/(1+$H$13)^(A37-1) -> 0.95201828 | D37: =IF(A37<=($H$16),X37,0) -> 149940 | E37: =D37*B37 -> 142745.62 | G37: =IF(A37<=($H$16),IF(ISERROR($B$12),AC37,Q37),0) -> 5.46672 | K37: =B37*G37 -> 5.2044174 | M37: =IF(A37=$H$16,$M$30,"") | N37: =IF(A37=$H$16,M37/(1+$H$13)^A37,"") | O37: =IF($O$34=1,AC37,AD37) -> 6.1038 | P37: =SUMIFS(Financials!L:L,Financials!A:A,"="&$A$1,Financials!C:C,"="&+A37) -> 5.46672 | Q37: =IF(P37=0,O37,P37) -> 5.46672 | R37: =1000000*Q37/D37 -> 36.459384 | S37: =1000000*Q37/$H$4 -> 182224 | T37: =T36 -> 0.46 | U37: =SUMIFS(CFs!E:E,CFs!A:A,"="&$A$1,CFs!B:B,"="&+A37) -> 0.57054795 | V37: =IF(U37=0,(1-$H$17)*AVERAGE(V34:V36),U37) -> 0.57054795 | W37: =IF($U$36>0,V37,T37) -> 0.57054795 | X37: =W37*$H$6*8760 -> 149940 | AC37: =AC36*1.125 -> 6.1282078 | AD37: =(AE37*$H$4)/1000000 -> 6.1038 | AE37: =AE36+5000 -> 203460
A38: =A37+1 -> 3 | B38: =1/(1+$H$13)^(A38-1) -> 0.9063388 | D38: =IF(A38<=($H$16),X38,0) -> 135064 | E38: =D38*B38 -> 122413.74 | G38: =IF(A38<=($H$16),IF(ISERROR($B$12),AC38,Q38),0) -> 7.30284 | K38: =B38*G38 -> 6.6188473 | M38: =IF(A38=$H$16,$M$30,"") | N38: =IF(A38=$H$16,M38/(1+$H$13)^A38,"") | O38: =IF($O$34=1,AC38,AD38) -> 6.2538 | P38: =SUMIFS(Financials!L:L,Financials!A:A,"="&$A$1,Financials!C:C,"="&+A38) -> 7.30284 | Q38: =IF(P38=0,O38,P38) -> 7.30284 | R38: =1000000*Q38/D38 -> 54.069478 | S38: =1000000*Q38/$H$4 -> 243428 | T38: =T37*(1-$H$17) -> 0.45034 | U38: =SUMIFS(CFs!E:E,CFs!A:A,"="&$A$1,CFs!B:B,"="&+A38) -> 0.51394216 | V38: =IF(U38=0,(1-$H$17)*AVERAGE(V35:V37),U38) -> 0.51394216 | W38: =IF($U$36>0,V38,T38) -> 0.51394216 | X38: =W38*$H$6*8760 -> 135064 | AC38: =AC36*1.25 -> 6.8091198 | AD38: =(AE38*$H$4)/1000000 -> 6.2538 | AE38: =AE37+5000 -> 208460
A39: =A38+1 -> 4 | B39: =1/(1+$H$13)^(A39-1) -> 0.86285111 | D39: =IF(A39<=($H$16),X39,0) -> 137087.15 | E39: =D39*B39 -> 118285.8 | G39: =IF(A39<=($H$16),IF(ISERROR($B$12),AC39,Q39),0) -> 6.4038 | K39: =B39*G39 -> 5.5255259 | M39: =IF(A39=$H$16,$M$30,"") | N39: =IF(A39=$H$16,M39/(1+$H$13)^A39,"") | O39: =IF($O$34=1,AC39,AD39) -> 6.4038 | P39: =SUMIFS(Financials!L:L,Financials!A:A,"="&$A$1,Financials!C:C,"="&+A39) -> 0 | Q39: =IF(P39=0,O39,P39) -> 6.4038 | R39: =1000000*Q39/D39 -> 46.71335 | S39: =1000000*Q39/$H$4 -> 213460 | T39: =T38*(1-$H$17) -> 0.44088286 | U39: =SUMIFS(CFs!E:E,CFs!A:A,"="&$A$1,CFs!B:B,"="&+A39) -> 0 | V39: =IF(U39=0,(1-$H$17)*AVERAGE(V36:V38),U39) -> 0.5216406 | W39: =IF($U$36>0,V39,T39) -> 0.5216406 | X39: =W39*$H$6*8760 -> 137087.15 | AC39: =AC36*1.375 -> 7.4900317 | AD39: =(AE39*$H$4)/1000000 -> 6.4038 | AE39: =AE38+5000 -> 213460
A40: =A39+1 -> 5 | B40: =1/(1+$H$13)^(A40-1) -> 0.82145003 | D40: =IF(A40<=($H$16),X40,0) -> 137742.41 | E40: =D40*B40 -> 113148.51 | G40: =IF(A40<=($H$16),IF(ISERROR($B$12),AC40,Q40),0) -> 6.5538 | K40: =B40*G40 -> 5.3836192 | M40: =IF(A40=$H$16,$M$30,"") | N40: =IF(A40=$H$16,M40/(1+$H$13)^A40,"") | O40: =IF($O$34=1,AC40,AD40) -> 6.5538 | P40: =SUMIFS(Financials!L:L,Financials!A:A,"="&$A$1,Financials!C:C,"="&+A40) -> 0 | Q40: =IF(P40=0,O40,P40) -> 6.5538 | R40: =1000000*Q40/D40 -> 47.580116 | S40: =1000000*Q40/$H$4 -> 218460 | T40: =T39*(1-$H$17) -> 0.43162432 | U40: =SUMIFS(CFs!E:E,CFs!A:A,"="&$A$1,CFs!B:B,"="&+A40) -> 0 | V40: =IF(U40=0,(1-$H$17)*AVERAGE(V37:V39),U40) -> 0.52413399 | W40: =IF($U$36>0,V40,T40) -> 0.52413399 | X40: =W40*$H$6*8760 -> 137742.41 | AC40: =AC36*1.5 -> 8.1709437 | AD40: =(AE40*$H$4)/1000000 -> 6.5538 | AE40: =AE39+5000 -> 218460
...

Sheet CFs
A1: Windfarm | B1: Year of op | C1: Y/e March | D1: Capacity | E1: CF | F1: MWh | G1: ROCs | J1: Source | K1: https://renewablesandchp.ofgem.gov.uk/Public/ReportViewer.aspx?ReportPath=/DatawarehouseReports/CertificatesExternalPublicDataWarehouse&ReportVisibility=1&ReportCategory=2
A2: Hywind Scotland Pilot Park | B2: 1 | C2: 2019 | D2: 30000 | E2: 0.514 | F2: 134993 | G2: 472498
A3: Hywind Scotland Pilot Park | B3: 2 | C3: 2020 | D3: 30000 | E3: =(F3*1000)/(8760*D3) -> 0.57054795 | F3: 149940 | G3: 149940
A4: Hywind Scotland Pilot Park | B4: 3 | C4: 2021 | D4: 30000 | E4: =(F4*1000)/(8760*D4) -> 0.51394216 | F4: 135064

Sheet Financials
A1: Windfarm | B1: Year ending | C1: Year of op | D1: Turnover | E1: COS | F1: Op costs | G1: Depn | H1: Total costs | I1: OP | J1: Total costs less depn | K1: Deflator | L1: Inflation adjusted | M1: Cost per MW | P1: Source: | Q1: https://find-and-update.company-information.service.gov.uk/company/08709450
A2: Hywind Scotland Pilot Park | B2: 2018 | C2: 1 | D2: 29 | E2: 20 | F2: 0.4 | G2: 14.4 | H2: =E2+F2 -> 20.4 | I2: =D2-H2 -> 8.6 | J2: =H2-G2 -> 6 | K2: =(0.0004*(B2-1999)^2)-(0.0317*(B2-1999))+1.4502 -> 0.9923 | L2: =J2*K2 -> 5.9538 | M2: =L2*1000000/VLOOKUP(A2,_xlnm.Database,MATCH("Capacity (MW)",Dataheads,0),FALSE) -> 198460
A3: Hywind Scotland Pilot Park | B3: 2019 | C3: 2 | D3: 33.6 | E3: 19.2 | F3: 0.5 | G3: 14.1 | H3: =E3+F3 -> 19.7 | I3: =D3-H3 -> 13.9 | J3: =H3-G3 -> 5.6 | K3: =(0.0004*(B3-1999)^2)-(0.0317*(B3-1999))+1.4502 -> 0.9762 | L3: =J3*K3 -> 5.46672 | M3: =L3*1000000/VLOOKUP(A3,_xlnm.Database,MATCH("Capacity (MW)",Dataheads,0),FALSE) -> 182224
A4: Hywind Scotland Pilot Park | B4: 2020 | C4: 3 | D4: 27.6 | E4: 20 | F4: 0.8 | G4: 13.2 | H4: =E4+F4 -> 20.8 | I4: =D4-H4 -> 6.8 | J4: =H4-G4 -> 7.6 | K4: =(0.0004*(B4-1999)^2)-(0.0317*(B4-1999))+1.4502 -> 0.9609 | L4: =J4*K4 -> 7.30284 | M4: =L4*1000000/VLOOKUP(A4,_xlnm.Database,MATCH("Capacity (MW)",Dataheads,0),FALSE) -> 243428
